Package: RLMM Version: 1.68.0 Command: /Library/Frameworks/R.framework/Resources/bin/R CMD INSTALL RLMM StartedAt: 2025-02-03 15:10:07 -0500 (Mon, 03 Feb 2025) EndedAt: 2025-02-03 15:10:10 -0500 (Mon, 03 Feb 2025) EllapsedTime: 2.9 seconds RetCode: 0 Status: OK