Package: RLMM Version: 1.68.0 Command: /Library/Frameworks/R.framework/Resources/bin/R CMD build --keep-empty-dirs --no-resave-data RLMM StartedAt: 2025-02-03 21:45:00 -0500 (Mon, 03 Feb 2025) EndedAt: 2025-02-03 21:45:17 -0500 (Mon, 03 Feb 2025) EllapsedTime: 17.4 seconds RetCode: 0 Status: OK PackageFile: RLMM_1.68.0.tar.gz PackageFileSize: 419.5 KiB