Package: RLMM Version: 1.68.0 Command: /home/biocbuild/bbs-3.20-bioc/R/bin/R CMD check --install=check:RLMM.install-out.txt --library=/home/biocbuild/bbs-3.20-bioc/R/site-library --timings RLMM_1.68.0.tar.gz StartedAt: 2025-02-04 01:50:21 -0500 (Tue, 04 Feb 2025) EndedAt: 2025-02-04 01:50:39 -0500 (Tue, 04 Feb 2025) EllapsedTime: 18.0 seconds RetCode: 0 Status: OK CheckDir: RLMM.Rcheck Warnings: 0