Package: RLMM Version: 1.68.0 Command: rm -rf RLMM.buildbin-libdir && mkdir RLMM.buildbin-libdir && F:\biocbuild\bbs-3.20-bioc\R\bin\R.exe CMD INSTALL --build --library=RLMM.buildbin-libdir RLMM_1.68.0.tar.gz StartedAt: 2025-02-04 09:21:44 -0500 (Tue, 04 Feb 2025) EndedAt: 2025-02-04 09:21:51 -0500 (Tue, 04 Feb 2025) EllapsedTime: 6.9 seconds RetCode: 0 Status: OK PackageFile: RLMM_1.68.0.zip PackageFileSize: 186.3 KiB