Package: RLMM Version: 1.68.0 Command: F:\biocbuild\bbs-3.20-bioc\R\bin\R.exe CMD check --no-multiarch --install=check:RLMM.install-out.txt --library=F:\biocbuild\bbs-3.20-bioc\R\library --no-vignettes --timings RLMM_1.68.0.tar.gz StartedAt: 2025-02-04 05:35:00 -0500 (Tue, 04 Feb 2025) EndedAt: 2025-02-04 05:35:28 -0500 (Tue, 04 Feb 2025) EllapsedTime: 28.6 seconds RetCode: 0 Status: OK CheckDir: RLMM.Rcheck Warnings: 0