Package: RLMM Version: 1.68.0 Command: /home/biocbuild/R/R/bin/R CMD check --install=check:RLMM.install-out.txt --library=/home/biocbuild/R/R/site-library --no-vignettes --timings RLMM_1.68.0.tar.gz StartedAt: 2025-02-11 09:48:12 -0000 (Tue, 11 Feb 2025) EndedAt: 2025-02-11 09:48:28 -0000 (Tue, 11 Feb 2025) EllapsedTime: 16.0 seconds RetCode: 0 Status: OK CheckDir: RLMM.Rcheck Warnings: 0