Package: RLMM Version: 1.68.0 Command: /home/biocbuild/R/R/bin/R CMD INSTALL RLMM StartedAt: 2025-02-10 20:08:57 -0000 (Mon, 10 Feb 2025) EndedAt: 2025-02-10 20:09:17 -0000 (Mon, 10 Feb 2025) EllapsedTime: 20.3 seconds RetCode: 0 Status: OK