Package: RMassBank Version: 3.16.0 Command: /Library/Frameworks/R.framework/Resources/bin/R CMD INSTALL RMassBank StartedAt: 2025-02-03 17:54:10 -0500 (Mon, 03 Feb 2025) EndedAt: 2025-02-03 17:55:05 -0500 (Mon, 03 Feb 2025) EllapsedTime: 56.0 seconds RetCode: 0 Status: OK