Package: RMassBank Version: 3.16.0 Command: /Library/Frameworks/R.framework/Resources/bin/R CMD build --keep-empty-dirs --no-resave-data RMassBank StartedAt: 2025-02-03 21:45:13 -0500 (Mon, 03 Feb 2025) EndedAt: 2025-02-03 22:03:52 -0500 (Mon, 03 Feb 2025) EllapsedTime: 1119.2 seconds RetCode: 0 Status: OK PackageFile: RMassBank_3.16.0.tar.gz PackageFileSize: 1.839 MiB