Package: RMassBank Version: 3.16.0 Command: /Library/Frameworks/R.framework/Resources/bin/R CMD check --install=check:RMassBank.install-out.txt --library=/Library/Frameworks/R.framework/Resources/library --no-vignettes --timings RMassBank_3.16.0.tar.gz StartedAt: 2025-02-04 09:02:18 -0500 (Tue, 04 Feb 2025) EndedAt: 2025-02-04 09:13:38 -0500 (Tue, 04 Feb 2025) EllapsedTime: 679.7 seconds RetCode: 0 Status: OK CheckDir: RMassBank.Rcheck Warnings: 0