Package: RMassBank Version: 3.16.0 Command: /home/biocbuild/bbs-3.20-bioc/R/bin/R CMD build --keep-empty-dirs --no-resave-data --md5 RMassBank StartedAt: 2025-02-03 19:01:00 -0500 (Mon, 03 Feb 2025) EndedAt: 2025-02-03 19:07:34 -0500 (Mon, 03 Feb 2025) EllapsedTime: 393.5 seconds RetCode: 0 Status: OK PackageFile: RMassBank_3.16.0.tar.gz PackageFileSize: 1.848 MiB