Package: RMassBank Version: 3.16.0 Command: /home/biocbuild/bbs-3.20-bioc/R/bin/R CMD check --install=check:RMassBank.install-out.txt --library=/home/biocbuild/bbs-3.20-bioc/R/site-library --timings RMassBank_3.16.0.tar.gz StartedAt: 2025-02-04 01:50:28 -0500 (Tue, 04 Feb 2025) EndedAt: 2025-02-04 02:01:39 -0500 (Tue, 04 Feb 2025) EllapsedTime: 670.7 seconds RetCode: 0 Status: OK CheckDir: RMassBank.Rcheck Warnings: 0