Package: RMassBank Version: 3.16.0 Command: /home/biocbuild/R/R/bin/R CMD build --keep-empty-dirs --no-resave-data RMassBank StartedAt: 2025-02-04 02:19:48 -0000 (Tue, 04 Feb 2025) EndedAt: 2025-02-04 02:31:08 -0000 (Tue, 04 Feb 2025) EllapsedTime: 679.9 seconds RetCode: 0 Status: OK PackageFile: RMassBank_3.16.0.tar.gz PackageFileSize: 1.438 MiB