Package: RMassBank Version: 3.16.0 Command: /home/biocbuild/R/R/bin/R CMD INSTALL RMassBank StartedAt: 2025-02-03 21:17:49 -0000 (Mon, 03 Feb 2025) EndedAt: 2025-02-03 21:18:51 -0000 (Mon, 03 Feb 2025) EllapsedTime: 62.2 seconds RetCode: 0 Status: OK