Package: RNASeqPower Version: 1.46.0 Command: /Library/Frameworks/R.framework/Resources/bin/R CMD check --install=check:RNASeqPower.install-out.txt --library=/Library/Frameworks/R.framework/Resources/library --no-vignettes --timings RNASeqPower_1.46.0.tar.gz StartedAt: 2025-02-05 07:59:35 -0500 (Wed, 05 Feb 2025) EndedAt: 2025-02-05 07:59:57 -0500 (Wed, 05 Feb 2025) EllapsedTime: 21.5 seconds RetCode: 0 Status: OK CheckDir: RNASeqPower.Rcheck Warnings: 0