Package: RNASeqPower Version: 1.46.0 Command: /Library/Frameworks/R.framework/Resources/bin/R CMD INSTALL RNASeqPower StartedAt: 2025-02-03 15:16:11 -0500 (Mon, 03 Feb 2025) EndedAt: 2025-02-03 15:16:41 -0500 (Mon, 03 Feb 2025) EllapsedTime: 30.3 seconds RetCode: 0 Status: OK