Package: RNASeqPower Version: 1.46.0 Command: chmod a+r RNASeqPower -R && F:\biocbuild\bbs-3.20-bioc\R\bin\R.exe CMD build --keep-empty-dirs --no-resave-data RNASeqPower StartedAt: 2025-02-03 21:44:19 -0500 (Mon, 03 Feb 2025) EndedAt: 2025-02-03 21:44:28 -0500 (Mon, 03 Feb 2025) EllapsedTime: 9.0 seconds RetCode: 0 Status: OK PackageFile: RNASeqPower_1.46.0.tar.gz PackageFileSize: 111 KiB