Package: RNASeqPower Version: 1.46.0 Command: /home/biocbuild/R/R/bin/R CMD check --install=check:RNASeqPower.install-out.txt --library=/home/biocbuild/R/R/site-library --no-vignettes --timings RNASeqPower_1.46.0.tar.gz StartedAt: 2025-02-04 10:32:11 -0000 (Tue, 04 Feb 2025) EndedAt: 2025-02-04 10:32:26 -0000 (Tue, 04 Feb 2025) EllapsedTime: 15.0 seconds RetCode: 0 Status: OK CheckDir: RNASeqPower.Rcheck Warnings: 0