Package: RNAmodR.AlkAnilineSeq Version: 1.20.0 Command: /Library/Frameworks/R.framework/Resources/bin/R CMD check --install=check:RNAmodR.AlkAnilineSeq.install-out.txt --library=/Library/Frameworks/R.framework/Resources/library --no-vignettes --timings RNAmodR.AlkAnilineSeq_1.20.0.tar.gz StartedAt: 2025-02-05 07:53:05 -0500 (Wed, 05 Feb 2025) EndedAt: 2025-02-05 08:01:44 -0500 (Wed, 05 Feb 2025) EllapsedTime: 518.6 seconds RetCode: 0 Status: OK CheckDir: RNAmodR.AlkAnilineSeq.Rcheck Warnings: 0