Package: RNAmodR.AlkAnilineSeq Version: 1.20.0 Command: /Library/Frameworks/R.framework/Resources/bin/R CMD build --keep-empty-dirs --no-resave-data RNAmodR.AlkAnilineSeq StartedAt: 2024-11-19 18:24:10 -0500 (Tue, 19 Nov 2024) EndedAt: 2024-11-19 18:26:54 -0500 (Tue, 19 Nov 2024) EllapsedTime: 164.3 seconds RetCode: 0 Status: OK PackageFile: RNAmodR.AlkAnilineSeq_1.20.0.tar.gz PackageFileSize: 1.04 MiB