Package: RNAmodR.AlkAnilineSeq Version: 1.20.0 Command: /Library/Frameworks/R.framework/Resources/bin/R CMD build --keep-empty-dirs --no-resave-data RNAmodR.AlkAnilineSeq StartedAt: 2025-02-03 21:46:34 -0500 (Mon, 03 Feb 2025) EndedAt: 2025-02-03 21:51:12 -0500 (Mon, 03 Feb 2025) EllapsedTime: 277.8 seconds RetCode: 0 Status: OK PackageFile: RNAmodR.AlkAnilineSeq_1.20.0.tar.gz PackageFileSize: 1.04 MiB