Package: RNAmodR.AlkAnilineSeq Version: 1.20.0 Command: /home/biocbuild/bbs-3.20-bioc/R/bin/R CMD INSTALL RNAmodR.AlkAnilineSeq StartedAt: 2025-02-10 15:42:51 -0500 (Mon, 10 Feb 2025) EndedAt: 2025-02-10 15:43:43 -0500 (Mon, 10 Feb 2025) EllapsedTime: 51.7 seconds RetCode: 0 Status: OK