Package: RNAmodR.AlkAnilineSeq Version: 1.20.0 Command: chmod a+r RNAmodR.AlkAnilineSeq -R && F:\biocbuild\bbs-3.20-bioc\R\bin\R.exe CMD build --keep-empty-dirs --no-resave-data RNAmodR.AlkAnilineSeq StartedAt: 2025-02-03 21:43:48 -0500 (Mon, 03 Feb 2025) EndedAt: 2025-02-03 21:47:07 -0500 (Mon, 03 Feb 2025) EllapsedTime: 198.8 seconds RetCode: 0 Status: OK PackageFile: RNAmodR.AlkAnilineSeq_1.20.0.tar.gz PackageFileSize: 906 KiB