Package: RNAmodR.AlkAnilineSeq Version: 1.20.0 Command: /home/biocbuild/R/R/bin/R CMD build --keep-empty-dirs --no-resave-data RNAmodR.AlkAnilineSeq StartedAt: 2025-02-11 02:00:25 -0000 (Tue, 11 Feb 2025) EndedAt: 2025-02-11 02:03:24 -0000 (Tue, 11 Feb 2025) EllapsedTime: 179.0 seconds RetCode: 0 Status: OK PackageFile: RNAmodR.AlkAnilineSeq_1.20.0.tar.gz PackageFileSize: 978.3 KiB