Package: RNAmodR.ML Version: 1.20.0 Command: /Library/Frameworks/R.framework/Resources/bin/R CMD build --keep-empty-dirs --no-resave-data RNAmodR.ML StartedAt: 2025-02-11 06:47:06 -0500 (Tue, 11 Feb 2025) EndedAt: 2025-02-11 06:50:54 -0500 (Tue, 11 Feb 2025) EllapsedTime: 227.9 seconds RetCode: 0 Status: OK PackageFile: RNAmodR.ML_1.20.0.tar.gz PackageFileSize: 1.58 MiB