Package: RNAmodR.ML Version: 1.20.0 Command: /Library/Frameworks/R.framework/Resources/bin/R CMD check --install=check:RNAmodR.ML.install-out.txt --library=/Library/Frameworks/R.framework/Resources/library --no-vignettes --timings RNAmodR.ML_1.20.0.tar.gz StartedAt: 2025-02-05 07:53:28 -0500 (Wed, 05 Feb 2025) EndedAt: 2025-02-05 08:02:09 -0500 (Wed, 05 Feb 2025) EllapsedTime: 520.7 seconds RetCode: 0 Status: OK CheckDir: RNAmodR.ML.Rcheck Warnings: 0