Package: RNAmodR.ML Version: 1.20.0 Command: /Library/Frameworks/R.framework/Resources/bin/R CMD build --keep-empty-dirs --no-resave-data RNAmodR.ML StartedAt: 2025-02-03 21:46:38 -0500 (Mon, 03 Feb 2025) EndedAt: 2025-02-03 21:53:42 -0500 (Mon, 03 Feb 2025) EllapsedTime: 423.8 seconds RetCode: 0 Status: OK PackageFile: RNAmodR.ML_1.20.0.tar.gz PackageFileSize: 1.577 MiB