Package: RNAmodR.ML Version: 1.20.0 Command: /home/biocbuild/bbs-3.20-bioc/R/bin/R CMD build --keep-empty-dirs --no-resave-data --md5 RNAmodR.ML StartedAt: 2025-02-03 19:02:18 -0500 (Mon, 03 Feb 2025) EndedAt: 2025-02-03 19:05:20 -0500 (Mon, 03 Feb 2025) EllapsedTime: 181.2 seconds RetCode: 0 Status: OK PackageFile: RNAmodR.ML_1.20.0.tar.gz PackageFileSize: 1.653 MiB