Package: RNAmodR.ML Version: 1.20.0 Command: /home/biocbuild/bbs-3.20-bioc/R/bin/R CMD check --install=check:RNAmodR.ML.install-out.txt --library=/home/biocbuild/bbs-3.20-bioc/R/site-library --timings RNAmodR.ML_1.20.0.tar.gz StartedAt: 2025-02-04 01:52:50 -0500 (Tue, 04 Feb 2025) EndedAt: 2025-02-04 02:01:54 -0500 (Tue, 04 Feb 2025) EllapsedTime: 544.6 seconds RetCode: 0 Status: OK CheckDir: RNAmodR.ML.Rcheck Warnings: 0