Package: RNAmodR.ML Version: 1.20.0 Command: /home/biocbuild/bbs-3.20-bioc/R/bin/R CMD INSTALL RNAmodR.ML StartedAt: 2025-02-03 15:45:15 -0500 (Mon, 03 Feb 2025) EndedAt: 2025-02-03 15:46:26 -0500 (Mon, 03 Feb 2025) EllapsedTime: 71.6 seconds RetCode: 0 Status: OK