Package: RNAmodR.ML Version: 1.20.0 Command: rm -rf RNAmodR.ML.buildbin-libdir && mkdir RNAmodR.ML.buildbin-libdir && F:\biocbuild\bbs-3.20-bioc\R\bin\R.exe CMD INSTALL --build --library=RNAmodR.ML.buildbin-libdir RNAmodR.ML_1.20.0.tar.gz StartedAt: 2025-02-11 09:19:55 -0500 (Tue, 11 Feb 2025) EndedAt: 2025-02-11 09:21:06 -0500 (Tue, 11 Feb 2025) EllapsedTime: 71.2 seconds RetCode: 0 Status: OK PackageFile: RNAmodR.ML_1.20.0.zip PackageFileSize: 1.688 MiB