Package: RNAmodR.ML Version: 1.20.0 Command: F:\biocbuild\bbs-3.20-bioc\R\bin\R.exe CMD check --no-multiarch --install=check:RNAmodR.ML.install-out.txt --library=F:\biocbuild\bbs-3.20-bioc\R\library --no-vignettes --timings RNAmodR.ML_1.20.0.tar.gz StartedAt: 2025-02-04 05:37:25 -0500 (Tue, 04 Feb 2025) EndedAt: 2025-02-04 05:45:57 -0500 (Tue, 04 Feb 2025) EllapsedTime: 511.7 seconds RetCode: 0 Status: OK CheckDir: RNAmodR.ML.Rcheck Warnings: 0