Package: RNAmodR.ML Version: 1.20.0 Command: F:\biocbuild\bbs-3.20-bioc\R\bin\R.exe CMD INSTALL RNAmodR.ML StartedAt: 2025-02-03 17:00:47 -0500 (Mon, 03 Feb 2025) EndedAt: 2025-02-03 17:02:03 -0500 (Mon, 03 Feb 2025) EllapsedTime: 75.4 seconds RetCode: 0 Status: OK