Package: RNAmodR.ML Version: 1.20.0 Command: /home/biocbuild/R/R/bin/R CMD INSTALL RNAmodR.ML StartedAt: 2025-02-10 20:46:59 -0000 (Mon, 10 Feb 2025) EndedAt: 2025-02-10 20:48:13 -0000 (Mon, 10 Feb 2025) EllapsedTime: 74.7 seconds RetCode: 0 Status: OK