Package: RNAmodR.RiboMethSeq Version: 1.20.0 Command: /Library/Frameworks/R.framework/Resources/bin/R CMD check --install=check:RNAmodR.RiboMethSeq.install-out.txt --library=/Library/Frameworks/R.framework/Resources/library --no-vignettes --timings RNAmodR.RiboMethSeq_1.20.0.tar.gz StartedAt: 2025-02-05 07:53:33 -0500 (Wed, 05 Feb 2025) EndedAt: 2025-02-05 08:01:48 -0500 (Wed, 05 Feb 2025) EllapsedTime: 494.8 seconds RetCode: 0 Status: OK CheckDir: RNAmodR.RiboMethSeq.Rcheck Warnings: 0