Package: RNAmodR.RiboMethSeq Version: 1.20.0 Command: /Library/Frameworks/R.framework/Resources/bin/R CMD check --install=check:RNAmodR.RiboMethSeq.install-out.txt --library=/Library/Frameworks/R.framework/Resources/library --no-vignettes --timings RNAmodR.RiboMethSeq_1.20.0.tar.gz StartedAt: 2025-02-04 09:06:52 -0500 (Tue, 04 Feb 2025) EndedAt: 2025-02-04 09:22:01 -0500 (Tue, 04 Feb 2025) EllapsedTime: 909.2 seconds RetCode: 0 Status: OK CheckDir: RNAmodR.RiboMethSeq.Rcheck Warnings: 0