Package: RNAmodR.RiboMethSeq Version: 1.20.0 Command: /Library/Frameworks/R.framework/Resources/bin/R CMD INSTALL RNAmodR.RiboMethSeq StartedAt: 2025-02-03 16:11:53 -0500 (Mon, 03 Feb 2025) EndedAt: 2025-02-03 16:13:50 -0500 (Mon, 03 Feb 2025) EllapsedTime: 116.6 seconds RetCode: 0 Status: OK