Package: RNAmodR.RiboMethSeq Version: 1.20.0 Command: /home/biocbuild/bbs-3.20-bioc/R/bin/R CMD INSTALL RNAmodR.RiboMethSeq StartedAt: 2025-02-03 15:46:36 -0500 (Mon, 03 Feb 2025) EndedAt: 2025-02-03 15:47:40 -0500 (Mon, 03 Feb 2025) EllapsedTime: 63.8 seconds RetCode: 0 Status: OK