Package: RNAmodR.RiboMethSeq Version: 1.20.0 Command: chmod a+r RNAmodR.RiboMethSeq -R && F:\biocbuild\bbs-3.20-bioc\R\bin\R.exe CMD build --keep-empty-dirs --no-resave-data RNAmodR.RiboMethSeq StartedAt: 2025-02-10 21:38:25 -0500 (Mon, 10 Feb 2025) EndedAt: 2025-02-10 21:41:46 -0500 (Mon, 10 Feb 2025) EllapsedTime: 201.4 seconds RetCode: 0 Status: OK PackageFile: RNAmodR.RiboMethSeq_1.20.0.tar.gz PackageFileSize: 470.9 KiB