Package: RNAmodR.RiboMethSeq Version: 1.20.0 Command: F:\biocbuild\bbs-3.20-bioc\R\bin\R.exe CMD INSTALL RNAmodR.RiboMethSeq StartedAt: 2025-02-10 16:26:47 -0500 (Mon, 10 Feb 2025) EndedAt: 2025-02-10 16:29:36 -0500 (Mon, 10 Feb 2025) EllapsedTime: 168.5 seconds RetCode: 0 Status: OK