Package: RNAmodR.RiboMethSeq Version: 1.20.0 Command: /home/biocbuild/R/R/bin/R CMD build --keep-empty-dirs --no-resave-data RNAmodR.RiboMethSeq StartedAt: 2025-02-11 02:01:03 -0000 (Tue, 11 Feb 2025) EndedAt: 2025-02-11 02:03:33 -0000 (Tue, 11 Feb 2025) EllapsedTime: 150.0 seconds RetCode: 0 Status: OK PackageFile: RNAmodR.RiboMethSeq_1.20.0.tar.gz PackageFileSize: 534.7 KiB