Package: RNAmodR Version: 1.20.0 Command: rm -rf RNAmodR.buildbin-libdir && mkdir RNAmodR.buildbin-libdir && /Users/biocbuild/BBS/utils/build-universal.sh RNAmodR_1.20.0.tar.gz /Library/Frameworks/R.framework/Resources/bin/R RNAmodR.buildbin-libdir StartedAt: 2025-02-01 16:34:37 -0500 (Sat, 01 Feb 2025) EndedAt: 2025-02-01 16:36:05 -0500 (Sat, 01 Feb 2025) EllapsedTime: 87.8 seconds RetCode: 0 Status: OK PackageFile: RNAmodR_1.20.0.tgz PackageFileSize: 2.955 MiB