Package: RNAmodR Version: 1.20.0 Command: /Library/Frameworks/R.framework/Resources/bin/R CMD build --keep-empty-dirs --no-resave-data RNAmodR StartedAt: 2025-01-31 06:39:18 -0500 (Fri, 31 Jan 2025) EndedAt: 2025-01-31 06:43:06 -0500 (Fri, 31 Jan 2025) EllapsedTime: 227.7 seconds RetCode: 0 Status: OK PackageFile: RNAmodR_1.20.0.tar.gz PackageFileSize: 1.512 MiB