############################################################################## ############################################################################## ### ### Running command: ### ### rm -rf RNAmodR.buildbin-libdir && mkdir RNAmodR.buildbin-libdir && /Users/biocbuild/BBS/utils/build-universal.sh RNAmodR_1.20.0.tar.gz /Library/Frameworks/R.framework/Resources/bin/R RNAmodR.buildbin-libdir ### ############################################################################## ############################################################################## >>>>>>> >>>>>>> INSTALLATION WITH 'R CMD INSTALL --preclean --no-multiarch --library=RNAmodR.buildbin-libdir RNAmodR_1.20.0.tar.gz' >>>>>>> * installing *source* package ‘RNAmodR’ ... ** using staged installation ** R ** data ** inst ** byte-compile and prepare package for lazy loading Error in lazyLoadDBinsertVariable(vars[i], from, datafile, ascii, compress, : write failed Calls: ... code2LazyLoadDB -> makeLazyLoadDB -> lazyLoadDBinsertVariable Execution halted ERROR: lazy loading failed for package ‘RNAmodR’ * removing ‘/Users/biocbuild/bbs-3.20-bioc/meat/RNAmodR.buildbin-libdir/RNAmodR’