Package: RNAmodR Version: 1.20.0 Command: rm -rf RNAmodR.buildbin-libdir && mkdir RNAmodR.buildbin-libdir && /Users/biocbuild/BBS/utils/build-universal.sh RNAmodR_1.20.0.tar.gz /Library/Frameworks/R.framework/Resources/bin/R RNAmodR.buildbin-libdir StartedAt: 2025-02-04 14:01:48 -0500 (Tue, 04 Feb 2025) EndedAt: 2025-02-04 14:02:55 -0500 (Tue, 04 Feb 2025) EllapsedTime: 66.8 seconds RetCode: 1 Status: ERROR PackageFile: None PackageFileSize: NA