Package: RNAmodR Version: 1.20.0 Command: /Library/Frameworks/R.framework/Resources/bin/R CMD build --keep-empty-dirs --no-resave-data RNAmodR StartedAt: 2025-02-03 21:46:34 -0500 (Mon, 03 Feb 2025) EndedAt: 2025-02-03 21:52:56 -0500 (Mon, 03 Feb 2025) EllapsedTime: 382.3 seconds RetCode: 0 Status: OK PackageFile: RNAmodR_1.20.0.tar.gz PackageFileSize: 1.512 MiB