Package: RNAmodR Version: 1.20.0 Command: /Library/Frameworks/R.framework/Resources/bin/R CMD check --install=check:RNAmodR.install-out.txt --library=/Library/Frameworks/R.framework/Resources/library --no-vignettes --timings RNAmodR_1.20.0.tar.gz StartedAt: 2025-02-04 09:04:16 -0500 (Tue, 04 Feb 2025) EndedAt: 2025-02-04 09:24:22 -0500 (Tue, 04 Feb 2025) EllapsedTime: 1205.6 seconds RetCode: 0 Status: OK CheckDir: RNAmodR.Rcheck Warnings: 0