Package: RNAmodR Version: 1.20.0 Command: /home/biocbuild/bbs-3.20-bioc/R/bin/R CMD build --keep-empty-dirs --no-resave-data --md5 RNAmodR StartedAt: 2025-02-03 19:01:59 -0500 (Mon, 03 Feb 2025) EndedAt: 2025-02-03 19:04:51 -0500 (Mon, 03 Feb 2025) EllapsedTime: 172.2 seconds RetCode: 0 Status: OK PackageFile: RNAmodR_1.20.0.tar.gz PackageFileSize: 1.537 MiB