Package: RNAmodR Version: 1.20.0 Command: chmod a+r RNAmodR -R && F:\biocbuild\bbs-3.20-bioc\R\bin\R.exe CMD build --keep-empty-dirs --no-resave-data RNAmodR StartedAt: 2025-02-03 21:43:46 -0500 (Mon, 03 Feb 2025) EndedAt: 2025-02-03 21:48:36 -0500 (Mon, 03 Feb 2025) EllapsedTime: 290.3 seconds RetCode: 0 Status: OK PackageFile: RNAmodR_1.20.0.tar.gz PackageFileSize: 1.292 MiB