Package: RNAmodR Version: 1.20.0 Command: /home/biocbuild/R/R/bin/R CMD INSTALL RNAmodR StartedAt: 2025-02-03 20:58:22 -0000 (Mon, 03 Feb 2025) EndedAt: 2025-02-03 20:59:53 -0000 (Mon, 03 Feb 2025) EllapsedTime: 90.6 seconds RetCode: 0 Status: OK